BEGIN:VCALENDAR
VERSION:2.0
PRODID:-//Wellington Town Council - ECPv6.14.2//NONSGML v1.0//EN
CALSCALE:GREGORIAN
METHOD:PUBLISH
X-ORIGINAL-URL:https://www.wellingtontowncouncil.co.uk
X-WR-CALDESC:Events for Wellington Town Council
REFRESH-INTERVAL;VALUE=DURATION:PT1H
X-Robots-Tag:noindex
X-PUBLISHED-TTL:PT1H
BEGIN:VTIMEZONE
TZID:Europe/London
BEGIN:DAYLIGHT
TZOFFSETFROM:+0000
TZOFFSETTO:+0100
TZNAME:BST
DTSTART:20250330T010000
END:DAYLIGHT
BEGIN:STANDARD
TZOFFSETFROM:+0100
TZOFFSETTO:+0000
TZNAME:GMT
DTSTART:20251026T010000
END:STANDARD
END:VTIMEZONE
BEGIN:VEVENT
DTSTART;TZID=Europe/London:20251214T170000
DTEND;TZID=Europe/London:20251214T183000
DTSTAMP:20260424T233932
CREATED:20250130T094208Z
LAST-MODIFIED:20251126T123954Z
UID:8613-1765731600-1765737000@www.wellingtontowncouncil.co.uk
SUMMARY:Christmas Concert in the Park
DESCRIPTION:Visit the Friends of Wellington Park Facebook page for more information.
URL:https://www.wellingtontowncouncil.co.uk/event/christmas-concert-in-the-park/
LOCATION:Wellington Park\, Wellington Park\, Courtland Road\, Wellington\, Somerset\, TA21 8ND\, United Kingdom
CATEGORIES:Community Events
ORGANIZER;CN="Friends of Wellington Park":MAILTO:sec.fowp@gmail.com
END:VEVENT
END:VCALENDAR