BEGIN:VCALENDAR
VERSION:2.0
PRODID:-//Wellington Town Council - ECPv6.14.2//NONSGML v1.0//EN
CALSCALE:GREGORIAN
METHOD:PUBLISH
X-WR-CALNAME:Wellington Town Council
X-ORIGINAL-URL:https://www.wellingtontowncouncil.co.uk
X-WR-CALDESC:Events for Wellington Town Council
REFRESH-INTERVAL;VALUE=DURATION:PT1H
X-Robots-Tag:noindex
X-PUBLISHED-TTL:PT1H
BEGIN:VTIMEZONE
TZID:Europe/London
BEGIN:DAYLIGHT
TZOFFSETFROM:+0000
TZOFFSETTO:+0100
TZNAME:BST
DTSTART:20250330T010000
END:DAYLIGHT
BEGIN:STANDARD
TZOFFSETFROM:+0100
TZOFFSETTO:+0000
TZNAME:GMT
DTSTART:20251026T010000
END:STANDARD
BEGIN:DAYLIGHT
TZOFFSETFROM:+0000
TZOFFSETTO:+0100
TZNAME:BST
DTSTART:20260329T010000
END:DAYLIGHT
BEGIN:STANDARD
TZOFFSETFROM:+0100
TZOFFSETTO:+0000
TZNAME:GMT
DTSTART:20261025T010000
END:STANDARD
END:VTIMEZONE
BEGIN:VEVENT
DTSTART;TZID=Europe/London:20260413T180000
DTEND;TZID=Europe/London:20260413T200000
DTSTAMP:20260425T140804
CREATED:20250512T135946Z
LAST-MODIFIED:20251105T102051Z
UID:9176-1776103200-1776110400@www.wellingtontowncouncil.co.uk
SUMMARY:Full Council Meeting
DESCRIPTION: Full Council Agendas \n  \n*Please note that meeting start times are dependent on the size of the agenda. Please see the pages linked above for confirmation.
URL:https://www.wellingtontowncouncil.co.uk/event/planning-full-council-meeting-2-2026-04-06/
LOCATION:United Reformed Church\, United Reformed Church\, Wellington\, Somerset\, TA21 8AG\, United Kingdom
CATEGORIES:Council Meetings
END:VEVENT
BEGIN:VEVENT
DTSTART;TZID=Europe/London:20260302T180000
DTEND;TZID=Europe/London:20260302T200000
DTSTAMP:20260425T140804
CREATED:20250512T135946Z
LAST-MODIFIED:20250512T135946Z
UID:10016-1772474400-1772481600@www.wellingtontowncouncil.co.uk
SUMMARY:Full Council Meeting
DESCRIPTION: Full Council Agendas \n  \n*Please note that meeting start times are dependent on the size of the agenda. Please see the pages linked above for confirmation.
URL:https://www.wellingtontowncouncil.co.uk/event/planning-full-council-meeting-2/2026-03-02/
LOCATION:United Reformed Church\, United Reformed Church\, Wellington\, Somerset\, TA21 8AG\, United Kingdom
CATEGORIES:Council Meetings
END:VEVENT
BEGIN:VEVENT
DTSTART;TZID=Europe/London:20260202T180000
DTEND;TZID=Europe/London:20260202T200000
DTSTAMP:20260425T140804
CREATED:20250512T135946Z
LAST-MODIFIED:20250512T135946Z
UID:10015-1770055200-1770062400@www.wellingtontowncouncil.co.uk
SUMMARY:Full Council Meeting
DESCRIPTION: Full Council Agendas \n  \n*Please note that meeting start times are dependent on the size of the agenda. Please see the pages linked above for confirmation.
URL:https://www.wellingtontowncouncil.co.uk/event/planning-full-council-meeting-2/2026-02-02/
LOCATION:United Reformed Church\, United Reformed Church\, Wellington\, Somerset\, TA21 8AG\, United Kingdom
CATEGORIES:Council Meetings
END:VEVENT
BEGIN:VEVENT
DTSTART;TZID=Europe/London:20260105T180000
DTEND;TZID=Europe/London:20260105T200000
DTSTAMP:20260425T140804
CREATED:20250512T135946Z
LAST-MODIFIED:20250512T135946Z
UID:10014-1767636000-1767643200@www.wellingtontowncouncil.co.uk
SUMMARY:Full Council Meeting
DESCRIPTION: Full Council Agendas \n  \n*Please note that meeting start times are dependent on the size of the agenda. Please see the pages linked above for confirmation.
URL:https://www.wellingtontowncouncil.co.uk/event/planning-full-council-meeting-2/2026-01-05/
LOCATION:United Reformed Church\, United Reformed Church\, Wellington\, Somerset\, TA21 8AG\, United Kingdom
CATEGORIES:Council Meetings
END:VEVENT
BEGIN:VEVENT
DTSTART;TZID=Europe/London:20251201T180000
DTEND;TZID=Europe/London:20251201T200000
DTSTAMP:20260425T140804
CREATED:20250512T135946Z
LAST-MODIFIED:20250512T135946Z
UID:10013-1764612000-1764619200@www.wellingtontowncouncil.co.uk
SUMMARY:Full Council Meeting
DESCRIPTION: Full Council Agendas \n  \n*Please note that meeting start times are dependent on the size of the agenda. Please see the pages linked above for confirmation.
URL:https://www.wellingtontowncouncil.co.uk/event/planning-full-council-meeting-2/2025-12-01/
LOCATION:United Reformed Church\, United Reformed Church\, Wellington\, Somerset\, TA21 8AG\, United Kingdom
CATEGORIES:Council Meetings
END:VEVENT
BEGIN:VEVENT
DTSTART;TZID=Europe/London:20251103T180000
DTEND;TZID=Europe/London:20251103T200000
DTSTAMP:20260425T140804
CREATED:20250512T135946Z
LAST-MODIFIED:20250512T135946Z
UID:10012-1762192800-1762200000@www.wellingtontowncouncil.co.uk
SUMMARY:Full Council Meeting
DESCRIPTION: Full Council Agendas \n  \n*Please note that meeting start times are dependent on the size of the agenda. Please see the pages linked above for confirmation.
URL:https://www.wellingtontowncouncil.co.uk/event/planning-full-council-meeting-2/2025-11-03/
LOCATION:United Reformed Church\, United Reformed Church\, Wellington\, Somerset\, TA21 8AG\, United Kingdom
CATEGORIES:Council Meetings
END:VEVENT
BEGIN:VEVENT
DTSTART;TZID=Europe/London:20251006T180000
DTEND;TZID=Europe/London:20251006T200000
DTSTAMP:20260425T140804
CREATED:20250512T135946Z
LAST-MODIFIED:20250512T135946Z
UID:10011-1759773600-1759780800@www.wellingtontowncouncil.co.uk
SUMMARY:Full Council Meeting
DESCRIPTION: Full Council Agendas \n  \n*Please note that meeting start times are dependent on the size of the agenda. Please see the pages linked above for confirmation.
URL:https://www.wellingtontowncouncil.co.uk/event/planning-full-council-meeting-2/2025-10-06/
LOCATION:United Reformed Church\, United Reformed Church\, Wellington\, Somerset\, TA21 8AG\, United Kingdom
CATEGORIES:Council Meetings
END:VEVENT
BEGIN:VEVENT
DTSTART;TZID=Europe/London:20250901T180000
DTEND;TZID=Europe/London:20250901T200000
DTSTAMP:20260425T140804
CREATED:20250512T135946Z
LAST-MODIFIED:20250512T135946Z
UID:10010-1756749600-1756756800@www.wellingtontowncouncil.co.uk
SUMMARY:Full Council Meeting
DESCRIPTION: Full Council Agendas \n  \n*Please note that meeting start times are dependent on the size of the agenda. Please see the pages linked above for confirmation.
URL:https://www.wellingtontowncouncil.co.uk/event/planning-full-council-meeting-2/2025-09-01/
LOCATION:United Reformed Church\, United Reformed Church\, Wellington\, Somerset\, TA21 8AG\, United Kingdom
CATEGORIES:Council Meetings
END:VEVENT
BEGIN:VEVENT
DTSTART;TZID=Europe/London:20250804T180000
DTEND;TZID=Europe/London:20250804T200000
DTSTAMP:20260425T140804
CREATED:20250512T135946Z
LAST-MODIFIED:20250512T135946Z
UID:10009-1754330400-1754337600@www.wellingtontowncouncil.co.uk
SUMMARY:Full Council Meeting
DESCRIPTION: Full Council Agendas \n  \n*Please note that meeting start times are dependent on the size of the agenda. Please see the pages linked above for confirmation.
URL:https://www.wellingtontowncouncil.co.uk/event/planning-full-council-meeting-2/2025-08-04/
LOCATION:United Reformed Church\, United Reformed Church\, Wellington\, Somerset\, TA21 8AG\, United Kingdom
CATEGORIES:Council Meetings
END:VEVENT
BEGIN:VEVENT
DTSTART;TZID=Europe/London:20250707T180000
DTEND;TZID=Europe/London:20250707T200000
DTSTAMP:20260425T140804
CREATED:20250512T135946Z
LAST-MODIFIED:20250512T135946Z
UID:10008-1751911200-1751918400@www.wellingtontowncouncil.co.uk
SUMMARY:Full Council Meeting
DESCRIPTION: Full Council Agendas \n  \n*Please note that meeting start times are dependent on the size of the agenda. Please see the pages linked above for confirmation.
URL:https://www.wellingtontowncouncil.co.uk/event/planning-full-council-meeting-2/2025-07-07/
LOCATION:United Reformed Church\, United Reformed Church\, Wellington\, Somerset\, TA21 8AG\, United Kingdom
CATEGORIES:Council Meetings
END:VEVENT
BEGIN:VEVENT
DTSTART;TZID=Europe/London:20250602T180000
DTEND;TZID=Europe/London:20250602T200000
DTSTAMP:20260425T140804
CREATED:20250512T135946Z
LAST-MODIFIED:20251105T101921Z
UID:9165-1748887200-1748894400@www.wellingtontowncouncil.co.uk
SUMMARY:Full Council Meeting
DESCRIPTION: Full Council Agendas \n  \n*Please note that meeting start times are dependent on the size of the agenda. Please see the pages linked above for confirmation.
URL:https://www.wellingtontowncouncil.co.uk/event/planning-full-council-meeting-2/2025-06-02/
LOCATION:United Reformed Church\, United Reformed Church\, Wellington\, Somerset\, TA21 8AG\, United Kingdom
CATEGORIES:Council Meetings
END:VEVENT
END:VCALENDAR